BEGIN:VCALENDAR
VERSION:2.0
PRODID:-//ChamberMaster//Event Calendar 2.0//EN
METHOD:PUBLISH
X-PUBLISHED-TTL:P3D
REFRESH-INTERVAL:P3D
CALSCALE:GREGORIAN
BEGIN:VEVENT
DTSTART:20190131T153000Z
DTEND:20190131T193000Z
X-MICROSOFT-CDO-ALLDAYEVENT:FALSE
SUMMARY:8TH ANNUAL SPLENDOR IN THE GARDEN LUNCHEON AND FASHION SHOW
DESCRIPTION:8TH ANNUAL SPLENDOR IN THE GARDEN LUNCHEON AND FASHION SHOW\n\nFAIRCHILD TROPICAL BOTANIC GARDEN and Neiman Marcus Coral Gables along with honorary chairs Swanee DiMare and Frances Sevilla-Sacasa and presenting sponsor MERCEDES BENZ of Coral Gables and Cutler Bay cordially invite you to the\n\n8th annual Splendor in the Garden\, an afternoon of Fashion and Philanthropy
X-ALT-DESC;FMTTYPE=text/html:<p>8<span style="font-family:inherit\; font-size:10.5px">TH</span>&nbsp\;ANNUAL SPLENDOR IN THE GARDEN LUNCHEON AND FASHION SHOW</p>\n\n<p>FAIRCHILD TROPICAL BOTANIC GARDEN and Neiman Marcus Coral Gables along with&nbsp\;honorary chairs Swanee DiMare and Frances Sevilla-Sacasa and presenting sponsor MERCEDES BENZ of Coral Gables and Cutler Bay cordially invite you to the</p>\n\n<p><em><strong><span style="font-family:inherit\; font-size:18px">8th annual Splendor in the Garden\, an afternoon of Fashion and Philanthropy</span></strong></em></p>\n
LOCATION:Fairchild Tropical Botanic Garden 10901 Old Cutler Road Coral Gables\, FL 33156
UID:e.1580.17085
SEQUENCE:3
DTSTAMP:20260425T164952Z
URL:https://gaybizmiami-summit-gzcms.preview.gochambermaster.com/events/details/8th-annual-splendor-in-the-garden-luncheon-and-fashion-show-17085
END:VEVENT

END:VCALENDAR
