BEGIN:VCALENDAR
VERSION:2.0
PRODID:-//ChamberMaster//Event Calendar 2.0//EN
METHOD:PUBLISH
X-PUBLISHED-TTL:P3D
REFRESH-INTERVAL:P3D
CALSCALE:GREGORIAN
BEGIN:VEVENT
DTSTART:20181101T153000Z
DTEND:20181101T173000Z
X-MICROSOFT-CDO-ALLDAYEVENT:FALSE
SUMMARY:ADL Miami Jurisprudence Award Luncheon
DESCRIPTION:Please join ADL at the 2018 Jurisprudence Award Luncheon on November 1 as ADL honors Alan Greer and the Honorable Rosemary Barkett! Don't miss this amazing event!
X-ALT-DESC;FMTTYPE=text/html:<strong>Please join ADL at the 2018 Jurisprudence Award Luncheon on November 1 as ADL honors Alan Greer and the Honorable Rosemary Barkett! Don&#39\;t miss this amazing event!</strong>
LOCATION:Miami Intercontinental Hotel\, 100 Chopin Plaza
UID:e.1580.17055
SEQUENCE:3
DTSTAMP:20260425T211741Z
URL:https://gaybizmiami-summit-gzcms.preview.gochambermaster.com/events/details/adl-miami-jurisprudence-award-luncheon-17055
END:VEVENT

END:VCALENDAR
