BEGIN:VCALENDAR
VERSION:2.0
PRODID:-//ChamberMaster//Event Calendar 2.0//EN
METHOD:PUBLISH
X-PUBLISHED-TTL:P3D
REFRESH-INTERVAL:P3D
CALSCALE:GREGORIAN
BEGIN:VEVENT
DTSTART:20200215T153000Z
DTEND:20200215T173000Z
X-MICROSOFT-CDO-ALLDAYEVENT:FALSE
SUMMARY:Art for Kids
DESCRIPTION:Like exhibiting artist Mickalene Thomas\, assemble images from magazines\, posters\, photographs and newspapers to create a piece of art depicting leisure as the subject matter.\nYoung artists will develop a portfolio of artwork while building technical skills through weekly group instruction\, led by teaching artists\, that explore different mediums\, techniques and tools for art making.
X-ALT-DESC;FMTTYPE=text/html:<span style="font-family:arial\,helvetica\,sans-serif"><span style="font-size:14px">Like exhibiting artist Mickalene Thomas\, assemble images from magazines\, posters\, photographs and newspapers to create a piece of art depicting leisure as the subject matter.</span></span>\n<p><span style="font-family:arial\,helvetica\,sans-serif"><span style="font-size:14px">Young artists will develop a portfolio of artwork while building technical skills through weekly group instruction\, led by teaching artists\, that explore different mediums\, techniques and tools for art making.</span></span></p>\n<br />\n&nbsp\;
LOCATION:The Bass 2100 Collins Ave Miami Beach\, FL 33139
UID:e.1580.20627
SEQUENCE:3
DTSTAMP:20260424T053527Z
URL:https://gaybizmiami-summit-gzcms.preview.gochambermaster.com/events/details/art-for-kids-02-15-2020-20627
END:VEVENT

END:VCALENDAR
