BEGIN:VCALENDAR
VERSION:2.0
PRODID:-//ChamberMaster//Event Calendar 2.0//EN
METHOD:PUBLISH
X-PUBLISHED-TTL:P3D
REFRESH-INTERVAL:P3D
CALSCALE:GREGORIAN
BEGIN:VEVENT
DTSTART:20200411T143000Z
DTEND:20200411T153000Z
X-MICROSOFT-CDO-ALLDAYEVENT:FALSE
SUMMARY:ART FOR KIDS: WORLD OF COLOR (AT-HOME) with The [Virtual] Bass
DESCRIPTION:This program is now online @BassCreativityCenter via Instagram!\n\n\n\nThrough a virtual lesson plan and video instruction\, young artists will discover the science and meaning behind color while mixing\, tinting and experiencing different mediums of art through color. Sign-up for our newsletter to have this program delivered directly to your inbox. Ideal for ages 7-12.
X-ALT-DESC;FMTTYPE=text/html:This program is now online @BassCreativityCenter via Instagram!<br />\n<br />\nThrough a virtual lesson plan and video instruction\, young artists will discover the science and meaning behind color while mixing\, tinting and experiencing different mediums of art through color. Sign-up for our newsletter to have this program delivered directly to your inbox. Ideal for ages 7-12.
LOCATION:@BassCreativityCenter on Instagram
UID:e.1580.20727
SEQUENCE:3
DTSTAMP:20260424T011158Z
URL:https://gaybizmiami-summit-gzcms.preview.gochambermaster.com/events/details/art-for-kids-art-science-at-home-at-the-virtual-bass-20727
END:VEVENT

END:VCALENDAR
