BEGIN:VCALENDAR
VERSION:2.0
PRODID:-//ChamberMaster//Event Calendar 2.0//EN
METHOD:PUBLISH
X-PUBLISHED-TTL:P3D
REFRESH-INTERVAL:P3D
CALSCALE:GREGORIAN
BEGIN:VEVENT
DTSTART:20181225T160000Z
DTEND:20181225T200000Z
X-MICROSOFT-CDO-ALLDAYEVENT:FALSE
SUMMARY:Christmas Day Brunch
DESCRIPTION:Christmas Day Brunch at Blue Matisse\n\n\nHighlights\n\nParrilla Station - Picanha\, vacio\, asado de tira\, chicken\, chorizo\, morcilla\n\nSeafood Station - Shrimp\, oysters\, crab\, mussels\n\nCeviche Station - Mahi\, shrimp\, octopus\, & scallops\n\nSignature Sweet Spot - Signature chocolate fountain & Chef's assorted mini desserts\n\nKids Corner - Mac & Cheese\, sliders\, pizza\, chicken tenders\, steak fries\n\nBottomless Mimosas & Bloody Marys\n\n\n\nHouse Specialties\n\nWaffle station with toppings\n\nChipotle eggs benedict\n\nChilaquiles action station\n\nPepper crusted bacon & andouille sausage\n\nOmelets made to order\n\nTortilla espanola display\n\nShrimp spring rolls\n\nSeafood anticucho station\n\nNikkei glazed ribs\n\nSalmon zarandeado\n\nKimchi fried rice\n\nGarlic blistered green beans\n\nCeviche mixto with creamy aji amarillo\n\nCrab acevichado & shrimp tempura rolls\n\nAvocado & tuna tartare\n\nMake your own salad station & Chef's specialty salads\n\n\n\nBeverages\n\nAmerican coffee\, teas\, and soft drinks included\n\nBottomless mimosas and Bloody Marys\n\n\n\n$48 adults / $20 teens / $12 ages 4-12 / Free ages 0-3\n\nGet 10% off for early booking until Dec. 14
X-ALT-DESC;FMTTYPE=text/html:<h2 style="text-align: center\;">Christmas Day Brunch at Blue Matisse</h2>\n<br />\n<u><strong>Highlights</strong></u><br />\nParrilla Station - Picanha\, vacio\, asado de tira\, chicken\, chorizo\, morcilla<br />\nSeafood Station - Shrimp\, oysters\, crab\, mussels<br />\nCeviche Station - Mahi\, shrimp\, octopus\, &amp\; scallops<br />\nSignature Sweet Spot - Signature chocolate fountain &amp\; Chef&#39\;s assorted mini desserts<br />\nKids Corner - Mac &amp\; Cheese\, sliders\, pizza\, chicken tenders\, steak fries<br />\nBottomless Mimosas &amp\; Bloody Marys<br />\n<br />\n<u><strong>House Specialties</strong></u><br />\nWaffle station with toppings<br />\nChipotle eggs benedict<br />\nChilaquiles action station<br />\nPepper crusted bacon &amp\; andouille sausage<br />\nOmelets made to order<br />\nTortilla espanola display<br />\nShrimp spring rolls<br />\nSeafood anticucho station<br />\nNikkei glazed ribs<br />\nSalmon zarandeado<br />\nKimchi fried rice<br />\nGarlic blistered green beans<br />\nCeviche mixto with creamy aji amarillo<br />\nCrab acevichado &amp\; shrimp tempura rolls<br />\nAvocado &amp\; tuna tartare<br />\nMake your own salad station &amp\; Chef&#39\;s specialty salads<br />\n<br />\n<u><strong>Beverages</strong></u><br />\nAmerican coffee\, teas\, and soft drinks included<br />\nBottomless mimosas and Bloody Marys<br />\n<br />\n<strong>$48 adults / $20 teens / $12 ages 4-12 / Free ages 0-3</strong><br />\n<em>Get 10% off for early booking until Dec. 14</em>
LOCATION:Blue Matisse Restaurant & NAU Lounge located inside InterContinental at Doral Miami 2505 NW 87 Ave. Doral\, FL 33172
UID:e.1580.17876
SEQUENCE:3
DTSTAMP:20260425T195716Z
URL:https://gaybizmiami-summit-gzcms.preview.gochambermaster.com/events/details/christmas-day-brunch-17876
END:VEVENT

END:VCALENDAR
