BEGIN:VCALENDAR
VERSION:2.0
PRODID:-//ChamberMaster//Event Calendar 2.0//EN
METHOD:PUBLISH
X-PUBLISHED-TTL:P3D
REFRESH-INTERVAL:P3D
CALSCALE:GREGORIAN
BEGIN:VEVENT
DTSTART:20200517T210000Z
DTEND:20200517T220000Z
X-MICROSOFT-CDO-ALLDAYEVENT:FALSE
SUMMARY:Curator Culture: Liza Lou and Congresswoman Donna Shalala
DESCRIPTION:Join us for a virtual town hall with artist Liza Lou and Congresswoman Donna Shalala\, moderated by Tom Healy\, navigating ideas of comfort\, travel and community during our current\, socially-distanced realities.\n\nOver the past 2 years\, the Curator Culture series at The Bass has brought together prominent artists and leading architects\, scientists\, journalists and influential leaders from many fields for public conversations about fostering creativity in a complicated world. The world has suddenly become much more complicated. How do we respond to the profound economic and cultural disruptions that are unfolding during this global pandemic? What opportunities exist for new ways of solving problems and working together?
X-ALT-DESC;FMTTYPE=text/html:<p>Join us for a virtual town hall with artist Liza Lou and Congresswoman Donna Shalala\, moderated by Tom Healy\, navigating ideas of comfort\, travel and community during our current\, socially-distanced realities.</p>\n\n<p>Over the past 2 years\, the&nbsp\;Curator&nbsp\;Culture&nbsp\;series at The Bass has brought together prominent artists and leading architects\, scientists\, journalists and influential leaders from many fields for public conversations about fostering creativity in a complicated world. The world has suddenly become much more complicated. How do we respond to the profound economic and cultural disruptions that are unfolding during this global pandemic? What opportunities exist for new ways of solving problems and working together?</p>\n
LOCATION:The Bass - Facebook Live
UID:e.1580.20778
SEQUENCE:3
DTSTAMP:20260423T222632Z
URL:https://gaybizmiami-summit-gzcms.preview.gochambermaster.com/events/details/curator-culture-liza-lou-and-congresswoman-donna-shalala-20778
END:VEVENT

END:VCALENDAR
