BEGIN:VCALENDAR
VERSION:2.0
PRODID:-//ChamberMaster//Event Calendar 2.0//EN
METHOD:PUBLISH
X-PUBLISHED-TTL:P3D
REFRESH-INTERVAL:P3D
CALSCALE:GREGORIAN
BEGIN:VEVENT
DTSTART:20180910T003000Z
DTEND:20180910T023000Z
X-MICROSOFT-CDO-ALLDAYEVENT:FALSE
SUMMARY:Entre 2 Aguas written by Manuel De\, directed by Carlos Caballero
DESCRIPTION:Entre 2 Aguas is a theater piece co-produced by FUNDarte (Miami\, USA) and La Saraghina de Stalker (Extremadura\, Spain)\, with artists from both countries. Two women: actresses who gave up successful careers upon emigrating from their native countries. Their friendship has survived the passing years and they currently act together in scenes for educational videos. Students learning Spanish have replaced large theater audiences\, and the stage is now nothing more than a cheap video set. (September 7\, 8 / 8:30 p.m. & September 9 / 3:00 p.m.   2018)
X-ALT-DESC;FMTTYPE=text/html:Entre 2 Aguas<strong> </strong>is a theater piece co-produced by FUNDarte (Miami\, USA) and La Saraghina de Stalker (Extremadura\, Spain)\, with artists from both countries. Two women: actresses who gave up successful careers upon emigrating from their native countries. Their friendship has survived the passing years and they currently act together in scenes for educational videos. Students learning Spanish have replaced large theater audiences\, and the stage is now nothing more than a cheap video set. <span style="color:#000\; font-family:verdana\; font-size:10pt">(September 7\, 8 / 8:30 p.m. &amp\; September 9 / 3:00 p.m. &ndash\; 2018)</span>
LOCATION:On.Stage Black.Box Theater at Miami Dade County Auditorium (2901 W Flagler St.\, Miami\, FL 33135)
UID:e.1580.16330
SEQUENCE:3
DTSTAMP:20260426T004327Z
URL:https://gaybizmiami-summit-gzcms.preview.gochambermaster.com/events/details/entre-2-aguas-written-by-manuel-de-directed-by-carlos-caballero-09-09-2018-16330
END:VEVENT

END:VCALENDAR
