BEGIN:VCALENDAR
VERSION:2.0
PRODID:-//ChamberMaster//Event Calendar 2.0//EN
METHOD:PUBLISH
X-PUBLISHED-TTL:P3D
REFRESH-INTERVAL:P3D
CALSCALE:GREGORIAN
BEGIN:VEVENT
DTSTART:20181130T040000Z
DTEND:20181130T060000Z
X-MICROSOFT-CDO-ALLDAYEVENT:FALSE
SUMMARY:Exclusive Invite- Pancakes & French Toast Menu Launch Party
DESCRIPTION:JOIN US FOR OUR GRAND OPENING \n\n"PANCAKES AND FRENCH TOAST PARTY"\n\nAT MANGO'S TROPICAL CAFE\, SOUTH BEACH\n\nALL YOU CAN EAT GOURMET TREAT!\n\n \n\nTHURSDAY NIGHT\, NOVEMBER 29\, 2018\n\n11:00pm   1:00am\n\nTRY ALL THE LIQUOR INFUSED SYRUPS\n\n\n\nRSVP AT  EVENTSSOBE@MANGOS.COM
X-ALT-DESC;FMTTYPE=text/html:<div style="text-align: center\;"><strong><span style="font-family:helvetica\,sans-serif"><span style="font-size:12.0pt">JOIN US FOR OUR GRAND OPENING&hellip\;</span></span></strong><br />\n<strong><span style="font-family:helvetica\,sans-serif"><span style="font-size:21.0pt">&ldquo\;PANCAKES AND FRENCH TOAST PARTY&rdquo\;</span></span></strong><br />\n<strong><span style="font-family:helvetica\,sans-serif"><span style="font-size:12.0pt"><strong><span style="font-family:helvetica\,sans-serif">AT MANGO&rsquo\;S TROPICAL CAFE\, SOUTH BEACH</span></strong></span></span></strong><br />\n<strong><span style="font-family:helvetica\,sans-serif"><span style="font-size:13.5pt">ALL YOU CAN EAT GOURMET TREAT!</span></span></strong><br />\n&nbsp\;<br />\n<strong><span style="font-family:helvetica\,sans-serif"><span style="font-size:13.5pt">THURSDAY NIGHT\, NOVEMBER 29\, 2018</span></span></strong><br />\n<strong><span style="font-family:helvetica\,sans-serif"><span style="font-size:12.0pt"><strong><span style="font-family:helvetica\,sans-serif">11:00pm &ndash\; 1:00am</span></strong><br />\n<strong><span style="font-family:helvetica\,sans-serif">TRY ALL THE LIQUOR INFUSED SYRUPS</span></strong><br />\n<br />\n<strong><span style="font-family:helvetica\,sans-serif">RSVP AT&nbsp\;</span></strong><strong><span style="font-family:helvetica\,sans-serif">&nbsp\;<a href="mailto:EVENTSSOBE@MANGOS.COM">EVENTSSOBE@MANGOS.COM</a></span></strong></span></span></strong></div>\n
LOCATION:Mango's Tropical Cafe- South Beach
UID:e.1580.17861
SEQUENCE:3
DTSTAMP:20260425T211739Z
URL:https://gaybizmiami-summit-gzcms.preview.gochambermaster.com/events/details/exclusive-invite-pancakes-french-toast-menu-launch-party-17861
END:VEVENT

END:VCALENDAR
