BEGIN:VCALENDAR
VERSION:2.0
PRODID:-//ChamberMaster//Event Calendar 2.0//EN
METHOD:PUBLISH
X-PUBLISHED-TTL:P3D
REFRESH-INTERVAL:P3D
CALSCALE:GREGORIAN
BEGIN:VEVENT
DTSTART:20200209T180000Z
DTEND:20200210T010000Z
X-MICROSOFT-CDO-ALLDAYEVENT:FALSE
SUMMARY:Fountain Fest 2020! A Day of Art and Music
DESCRIPTION:Fountain Fest   A Day of Art & Music\n\nFREE TO ALL! Family and pet-friendly\n\nJoin your neighbors for an all-day Fountain Fest! Let the creative juices flow all day\, then dance the night away! \n\n1PM Metroflea Miami's Artisan Market Begins\n\n3PM Live Art \n\n5PM Live Music \n\n\n\nSpecial Musical Guests: \n\nTito Puente Jr.\n\nEllen Patterson\n\nJimmy Costello\n\nMimo Music \n\nand\n\nMaryel Epps\n\nwith \n\nDJ LEO!
X-ALT-DESC;FMTTYPE=text/html:<span style="color:rgb(29\, 33\, 41)\; font-family:helvetica\,arial\,sans-serif\; font-size:14px">Fountain Fest &ndash\; A Day of Art &amp\; Music</span><br />\n<span style="color:rgb(29\, 33\, 41)\; font-family:helvetica\,arial\,sans-serif\; font-size:14px">FREE TO ALL! Family and pet-friendly</span><br />\n<span style="color:rgb(29\, 33\, 41)\; font-family:helvetica\,arial\,sans-serif\; font-size:14px">Join your neighbors for an all-day Fountain Fest! Let the creative juices flow all day\, then dance the night away! </span><br />\n<span style="color:rgb(29\, 33\, 41)\; font-family:helvetica\,arial\,sans-serif\; font-size:14px">1PM Metroflea Miami&#39\;s Artisan Market Begins</span><br />\n<span style="color:rgb(29\, 33\, 41)\; font-family:helvetica\,arial\,sans-serif\; font-size:14px">3PM Live Art </span><br />\n<span style="color:rgb(29\, 33\, 41)\; font-family:helvetica\,arial\,sans-serif\; font-size:14px">5PM Live Music </span><br />\n<br />\nSpecial Musical Guests:&nbsp\;<br />\nTito Puente Jr.<br />\nEllen Patterson<br />\nJimmy Costello<br />\nMimo Music&nbsp\;<br />\nand<br />\nMaryel Epps<br />\nwith&nbsp\;<br />\nDJ LEO!&nbsp\;
LOCATION:7802 Rue Vendome Miami Beach\, FL 33141
UID:e.1580.20606
SEQUENCE:3
DTSTAMP:20260424T053500Z
URL:https://gaybizmiami-summit-gzcms.preview.gochambermaster.com/events/details/fountain-fest-2020-a-day-of-art-and-music-20606
END:VEVENT

END:VCALENDAR
