BEGIN:VCALENDAR
VERSION:2.0
PRODID:-//ChamberMaster//Event Calendar 2.0//EN
METHOD:PUBLISH
X-PUBLISHED-TTL:P3D
REFRESH-INTERVAL:P3D
CALSCALE:GREGORIAN
BEGIN:VEVENT
DTSTART:20200604T200000Z
DTEND:20200604T210000Z
X-MICROSOFT-CDO-ALLDAYEVENT:FALSE
SUMMARY:Free Webinar! "Income Tax Return Filing" presented by GALLA (Gay & Lesbian Lawyer's Assn.)
DESCRIPTION:
X-ALT-DESC;FMTTYPE=text/html:
LOCATION:Virtual via Zoom (Access will be provided after Registration)
UID:e.1580.20796
SEQUENCE:3
DTSTAMP:20260423T205351Z
URL:https://gaybizmiami-summit-gzcms.preview.gochambermaster.com/events/details/free-webinar-income-tax-return-filing-presented-by-galla-gay-lesbian-lawyer-s-assn-20796
END:VEVENT

END:VCALENDAR
