BEGIN:VCALENDAR
VERSION:2.0
PRODID:-//ChamberMaster//Event Calendar 2.0//EN
METHOD:PUBLISH
X-PUBLISHED-TTL:P3D
REFRESH-INTERVAL:P3D
CALSCALE:GREGORIAN
BEGIN:VEVENT
DTSTART:20181025T210000Z
DTEND:20181026T000000Z
X-MICROSOFT-CDO-ALLDAYEVENT:FALSE
SUMMARY:Friendly Creatures of the Night
DESCRIPTION:Come to Fairchild for a night of discovery! Dressed as your favorite creature to make the night more fun\, and don't forget your flashlight!\n\nAn event for the whole family! Learn all about the night creatures dwelling in within the Garden and our South Florida backyards. Take a stroll around to see what you can spot! \n\nThe program of interactive activities includes:\n\nAll evening 5:00pm- 8:00pm - Science Village Classroom \n\nDiscovery Stations: \n\n      Critters masks for coloring\n\n      Carnivorous plants display - and we'll have some for sale so you can take one home\, too! \n\n      Bat & bugs display\n\n      Live snakes & spiders\n\n      Live owls\n\n      Touch-A-Caterpillar discovery station\n\n7:15pm\n\nSpooky Night walk through Rainforest - see what comes alive after dark!   \n\nMore fun at our Pumpkin Patch and  Scarecrow Contest -snap some photos and vote for your favorite original scarecrow!
X-ALT-DESC;FMTTYPE=text/html:<p>Come to Fairchild for a night of discovery! Dressed as your favorite creature to make the night more fun\, and don&rsquo\;t forget your flashlight!</p>\n\n<p>An event for the whole family! Learn all about the night creatures dwelling in within the Garden and our South Florida backyards. Take a stroll around to see what you can spot!&nbsp\;</p>\n\n<p>The program of interactive activities includes:</p>\n\n<p><u>All evening 5:00pm- 8:00pm - Science Village Classroom&nbsp\;</u><br />\nDiscovery Stations:&nbsp\;<br />\n&nbsp\; &nbsp\; &nbsp\;&nbsp\;Critters masks for coloring<br />\n&nbsp\; &nbsp\; &nbsp\; Carnivorous plants display - and we&#39\;ll have some for sale so you can take one home\, too!&nbsp\;<br />\n&nbsp\; &nbsp\; &nbsp\; Bat &amp\;&nbsp\;bugs display<br />\n&nbsp\; &nbsp\; &nbsp\;&nbsp\;Live snakes &amp\;&nbsp\;spiders<br />\n&nbsp\; &nbsp\; &nbsp\;&nbsp\;Live owls<br />\n&nbsp\; &nbsp\; &nbsp\;&nbsp\;Touch-A-Caterpillar discovery station</p>\n\n<p><u>7:15pm</u></p>\n\n<p>Spooky Night walk through Rainforest - see what comes alive after dark!&nbsp\;&nbsp\;&nbsp\;</p>\n\n<p>More fun at our&nbsp\;<a href="https://www.fairchildgarden.org/Events-Community-Outreach/Events-Details/scarecrow-and-pumpkin-patch-display" style="box-sizing: border-box\; margin: 0px\; padding: 0px\; border: 0px\; font: inherit\; vertical-align: baseline\; color: rgb(0\, 112\, 74)\; outline: 0px\; background: transparent\;">Pumpkin Patch&nbsp\;</a>and &nbsp\;<a href="https://www.fairchildgarden.org/Events-Community-Outreach/Events-Details/scarecrow-and-pumpkin-patch-display" style="box-sizing: border-box\; margin: 0px\; padding: 0px\; border: 0px\; font: inherit\; vertical-align: baseline\; color: rgb(0\, 112\, 74)\; outline: 0px\; background: transparent\;">Scarecrow</a>&nbsp\;Contest -snap some photos and vote for your favorite original scarecrow!&nbsp\;</p>\n
LOCATION:Fairchild Tropical Botanic Garden 10901 Old Cutler Road Coral Gables\, FL 33156
UID:e.1580.17072
SEQUENCE:3
DTSTAMP:20260425T230739Z
URL:https://gaybizmiami-summit-gzcms.preview.gochambermaster.com/events/details/friendly-creatures-of-the-night-17072
END:VEVENT

END:VCALENDAR
