BEGIN:VCALENDAR
VERSION:2.0
PRODID:-//ChamberMaster//Event Calendar 2.0//EN
METHOD:PUBLISH
X-PUBLISHED-TTL:P3D
REFRESH-INTERVAL:P3D
CALSCALE:GREGORIAN
BEGIN:VEVENT
DTSTART:20201031T170000Z
DTEND:20201031T200000Z
X-MICROSOFT-CDO-ALLDAYEVENT:FALSE
SUMMARY:Halloween Drive-Thru at IKEA Miami!
DESCRIPTION:Join ?us at IKEA Miami to experience a fun and contactless Scandinavian inspired trick or treat Halloween Drive-Thru in our P1 parking lot from 1pm to 4pm! Children will be given individually wrapped candies\, crafts\, and giveaways. Kids are encouraged to wear their costumes! Trick or Treaters are required to stay in their vehicle to participate.\n\nSee you there!
X-ALT-DESC;FMTTYPE=text/html:<p>Join ?us at IKEA Miami to experience a fun and contactless Scandinavian inspired trick or treat Halloween Drive-Thru in our P1 parking lot from 1pm to 4pm! Children will be given individually wrapped candies\, crafts\, and giveaways. Kids are encouraged to wear their costumes! Trick or Treaters are required to stay in their vehicle to participate.</p>\n\n<p>See you there!</p>\n
LOCATION:IKEA Miami 1801 Northwest 117th Avenue\, Miami\, FL\, 33172
UID:e.1580.26112
SEQUENCE:3
DTSTAMP:20260423T013256Z
URL:https://gaybizmiami-summit-gzcms.preview.gochambermaster.com/events/details/halloween-drive-thru-at-ikea-miami-26112
END:VEVENT

END:VCALENDAR
