BEGIN:VCALENDAR
VERSION:2.0
PRODID:-//ChamberMaster//Event Calendar 2.0//EN
METHOD:PUBLISH
X-PUBLISHED-TTL:P3D
REFRESH-INTERVAL:P3D
CALSCALE:GREGORIAN
BEGIN:VEVENT
DTSTART:20181015T223000Z
DTEND:20181016T000000Z
X-MICROSOFT-CDO-ALLDAYEVENT:FALSE
SUMMARY:Hope Study Project Launch and HIV+ Organ donation
DESCRIPTION:The HIV community can now give and receive the gift of life through transplantation.\n\nThe passage of the HOPE Act has changed US law regarding organ donation. Persons living with HIV infection are now encouraged to consider becoming organ donors.  The goal of the Hope Study Project is to optimize the transplantation of HIV+ patients with end stage kidney and liver failure through research that will help define the risks and benefits of accepting an organ allograft from an HIV+ donor. This study has the potential to decrease the waiting time for HIV+ transplant candidates\, particularly kidney transplant candidates who have a significantly increased risk of death on the waiting list.\n\nHOPE Act transplants will increase the organ donor pool for all organ transplant candidates.\n\n\n\nCome learn more!\n\n                                              \n\nThere will be a presentation\, Q & A\, and opportunity to sign up to become an organ donor.                            \n\n                                                                            \nRSVP:   https://www.eventbrite.com/e/hope-study-project-launch-and-hiv-organ-donation-tickets-49750406806 \,email cbrown@jcsfl.org  or call (305) 364-5319
X-ALT-DESC;FMTTYPE=text/html:<strong><span style="color:#1E0A3C"><span style="font-size:18.0pt">The HIV community can now give and receive the gift of life through transplantation.</span></span></strong><br />\n<span style="color:#6F7287"><span style="font-size:12.0pt">The passage of the HOPE Act has changed US law regarding organ donation. Persons living with HIV infection are now encouraged to consider becoming organ donors.&nbsp\; The goal of the Hope Study Project is to optimize the transplantation of HIV+ patients with end stage kidney and liver failure through research that will help define the risks and benefits of accepting an organ allograft from an HIV+ donor. This study has the potential to decrease the waiting time for HIV+ transplant candidates\, particularly kidney transplant candidates who have a significantly increased risk of death on the waiting list.<br />\nHOPE Act transplants will increase the organ donor pool for all organ transplant candidates.<br />\n<br />\n<strong>Come learn more!</strong></span></span><br />\n&nbsp\;&nbsp\;&nbsp\;&nbsp\;&nbsp\;&nbsp\;&nbsp\;&nbsp\;&nbsp\;&nbsp\;&nbsp\;&nbsp\;&nbsp\;&nbsp\;&nbsp\;&nbsp\;&nbsp\;&nbsp\;&nbsp\;&nbsp\;&nbsp\;&nbsp\;&nbsp\;&nbsp\;&nbsp\;&nbsp\;&nbsp\;&nbsp\;&nbsp\;&nbsp\;&nbsp\;&nbsp\;&nbsp\;&nbsp\;&nbsp\;&nbsp\;&nbsp\;&nbsp\;&nbsp\;&nbsp\;&nbsp\;&nbsp\;&nbsp\;&nbsp\;&nbsp\;&nbsp\;<br />\n<span style="color:#6F7287"><span style="font-size:12.0pt">There will be a presentation\, Q &amp\; A\, and opportunity to sign up to become an organ donor.&nbsp\;&nbsp\;&nbsp\;&nbsp\;&nbsp\;&nbsp\;&nbsp\;&nbsp\;&nbsp\;&nbsp\;&nbsp\;&nbsp\;&nbsp\;&nbsp\;&nbsp\;&nbsp\;&nbsp\;&nbsp\;&nbsp\;&nbsp\;&nbsp\;&nbsp\;&nbsp\;&nbsp\;&nbsp\;&nbsp\;&nbsp\; </span></span><br />\n&nbsp\;&nbsp\;&nbsp\;&nbsp\;&nbsp\;&nbsp\;&nbsp\;&nbsp\;&nbsp\;&nbsp\;&nbsp\;&nbsp\;&nbsp\;&nbsp\;&nbsp\;&nbsp\;&nbsp\;&nbsp\;&nbsp\;&nbsp\;&nbsp\;&nbsp\;&nbsp\;&nbsp\;&nbsp\;&nbsp\;&nbsp\;&nbsp\;&nbsp\;&nbsp\;&nbsp\;&nbsp\;&nbsp\;&nbsp\;&nbsp\;&nbsp\;&nbsp\;&nbsp\;&nbsp\;&nbsp\;&nbsp\;&nbsp\;&nbsp\;&nbsp\;&nbsp\;&nbsp\;&nbsp\;&nbsp\;&nbsp\;&nbsp\;&nbsp\;&nbsp\;&nbsp\;&nbsp\;&nbsp\;&nbsp\;&nbsp\;&nbsp\;&nbsp\;&nbsp\;&nbsp\;&nbsp\;&nbsp\;&nbsp\;&nbsp\;&nbsp\;&nbsp\;&nbsp\;&nbsp\;&nbsp\;&nbsp\;&nbsp\;&nbsp\;&nbsp\;&nbsp\;&nbsp\;\n<h2><span style="font-size:14px"><span style="font-family:arial\,helvetica\,sans-serif"><strong><span style="color:#1D2129">RSVP: &nbsp\;&nbsp\;</span></strong><a href="https://www.eventbrite.com/e/hope-study-project-launch-and-hiv-organ-donation-tickets-49750406806">https://www.eventbrite.com/e/hope-study-project-launch-and-hiv-organ-donation-tickets-49750406806</a>&nbsp\;\,<strong><span style="color:windowtext">email <a href="mailto:cbrown@jcsfl.org">cbrown@jcsfl.org</a></span></strong><strong>&nbsp\; <span style="color:#1D2129">or call </span></strong><u><span style="color:#1A0DAB"><a href="https://www.google.com/search?q=lambda+living&amp\;oq=lambda+living+&amp\;aqs=chrome.0.0j69i60l3j0l2.2247j0j7&amp\;sourceid=chrome&amp\;ie=UTF-8" title="Call via Hangouts"><span style="color:#1A0DAB">(305) 364-5319</span></a></span></u></span></span></h2>\n
LOCATION:Miami Transplant Institute 1801 Northwest 9th Avenue 7th Floor Miami\, FL 33136
UID:e.1580.16672
SEQUENCE:3
DTSTAMP:20260425T230630Z
URL:https://gaybizmiami-summit-gzcms.preview.gochambermaster.com/events/details/hope-study-project-launch-and-hiv-organ-donation-16672
END:VEVENT

END:VCALENDAR
