BEGIN:VCALENDAR
VERSION:2.0
PRODID:-//ChamberMaster//Event Calendar 2.0//EN
METHOD:PUBLISH
X-PUBLISHED-TTL:P3D
REFRESH-INTERVAL:P3D
CALSCALE:GREGORIAN
BEGIN:VEVENT
DTSTART:20191217T150000Z
DTEND:20191217T160000Z
X-MICROSOFT-CDO-ALLDAYEVENT:FALSE
SUMMARY:Hospitality Council Meeting @ Blue Moon Hotel
DESCRIPTION:Mission - The Hospitality Council of the Miami-Dade Gay & Lesbian Chamber of Commerce (only active members of the Chamber can participate) is a member industry group established to guide the Chamber in all matters relating to:\n\n\n	Advocacy and industry trends and analysis\n	LGBT tourism trends and tracking\n	Pink Flamingo Hospitality Certification Program\n	Marketing Greater Miami and Beaches as a premier LGBT travel destination\n\n\nGuest presentations:  Mr. B. Hospitality & Big Bus Tours
X-ALT-DESC;FMTTYPE=text/html:<p style="background-color: transparent\; box-sizing: border-box\; color: rgb(63\, 63\, 63)\;">Mission - The Hospitality Council of the Miami-Dade Gay &amp\; Lesbian Chamber of Commerce (only active members of the Chamber can participate) is a member industry group established to guide the Chamber in all matters relating to:</p>\n\n<ul helvetica="" style="background-color: transparent\; box-sizing: border-box\; color: rgb(63\, 63\, 63)\;">\n	<li style="box-sizing: border-box\;">Advocacy and industry trends and analysis</li>\n	<li style="box-sizing: border-box\;">LGBT tourism trends and tracking</li>\n	<li style="box-sizing: border-box\;">Pink Flamingo Hospitality Certification Program</li>\n	<li style="box-sizing: border-box\;">Marketing Greater Miami and Beaches as a premier LGBT travel destination</li>\n</ul>\n\n<div style="box-sizing: border-box\;">Guest presentations:&nbsp\; Mr. B. Hospitality &amp\; Big Bus Tours</div>\n\n<h3 style="box-sizing: border-box\;">&nbsp\;</h3>\n
LOCATION:Blue Moon Hotel 944 Collins Avenue Miami Beach\, FL 33139
UID:e.1580.20401
SEQUENCE:3
DTSTAMP:20260424T103504Z
URL:https://gaybizmiami-summit-gzcms.preview.gochambermaster.com/events/details/hospitality-council-meeting-blue-moon-hotel-20401
END:VEVENT

END:VCALENDAR
