BEGIN:VCALENDAR
VERSION:2.0
PRODID:-//ChamberMaster//Event Calendar 2.0//EN
METHOD:PUBLISH
X-PUBLISHED-TTL:P3D
REFRESH-INTERVAL:P3D
CALSCALE:GREGORIAN
BEGIN:VEVENT
DTSTART:20190625T140000Z
DTEND:20190625T153000Z
X-MICROSOFT-CDO-ALLDAYEVENT:FALSE
SUMMARY:Hospitality Council Meeting @ Miami Beach Convention Center
DESCRIPTION:Mission   The Hospitality Council of the Miami-Dade Gay & Lesbian Chamber of Commerce (only active members of the Chamber can participate) is a member industry group established to guide the Chamber in all matters relating to:\n\n\n	Advocacy and industry trends and analysis\n	LGBT tourism trends and tracking\n	Pink Flamingo Hospitality Certification Program\n	Market Greater Miami and Beaches as a premier LGBT travel destination\n\n	 \n\n	\n\n	Meeting Agenda\n	Welcome & Introductions \n	\n		MBCC   Stephanie Taylor\, Sabrina Anico & Steve Haas\n	\n	\n	Property Reports & Market Summary   During Introductions\n	GMBHA Update   Wendy Kallergis  \n	\n		Industry updates\n		Advocacy local and state \n	\n	\n	MBVCA Grants Update and Occupancy/Tax Update & Grant Cycle   Grisette Roque\n	\n		Forbes Training\; Summer updates\n	\n	\n	GMCVB LGBT Updates   Dan Rios \n	TOUR of the Miami Beach Convention Center   Steve Haas\n	 \n\n	 \n\n	 \n\n	Meeting/Parking Instructions\n\n	 \n\n	The Miami Beach Convention Center is located on Convention Center Dr.  There is limited street parking.  There is a City of Miami Beach parking lot behind City Hall.  You can also take UBER/LYFT/TAXI or\, the Miami Beach Trolley.
X-ALT-DESC;FMTTYPE=text/html:<p style="background-color: transparent\; box-sizing: border-box\; color: rgb(63\, 63\, 63)\; font-family: "><br />\nMission &ndash\; The Hospitality Council of the Miami-Dade Gay &amp\; Lesbian Chamber of Commerce (only active members of the Chamber can participate) is a member industry group established to guide the Chamber in all matters relating to:</p>\n\n<ul helvetica="" style="background-color: transparent\; box-sizing: border-box\; color: rgb(63\, 63\, 63)\; font-family: ">\n	<li style="box-sizing: border-box\;">Advocacy and industry trends and analysis</li>\n	<li style="box-sizing: border-box\;">LGBT tourism trends and tracking</li>\n	<li style="box-sizing: border-box\;">Pink Flamingo Hospitality Certification Program</li>\n	<li style="box-sizing: border-box\;">Market <span style="display: inline !important\; float: none\; background-color: rgb(255\, 255\, 255)\; color: rgb(63\, 63\, 63)\; font-family: sans-serif\,Arial\,Verdana\,&quot\;Trebuchet MS&quot\;\; font-size: 13px\; font-style: normal\; font-variant: normal\; font-weight: 400\; letter-spacing: normal\; orphans: 2\; text-align: left\; text-decoration: none\; text-indent: 0px\; text-transform: none\; -webkit-text-stroke-width: 0px\; white-space: normal\; word-spacing: 0px\;">Greater Miami and Beaches as a premier LGBT travel destination</span><br />\n	&nbsp\;<br />\n	<br />\n	<strong><em><span style="font-size:11.0pt\;">Meeting Agenda</span></em></strong></li>\n	<li style="color:rgb(0\, 0\, 0)\;font-size:11pt\;font-style:normal\;font-weight:400\;"><span style="font-size:&#10\;">Welcome &amp\; Introductions </span>\n	<ul>\n		<li style="color:rgb(0\, 0\, 0)\;font-size:11pt\;font-style:normal\;font-weight:400\;">MBCC &ndash\; Stephanie Taylor\, Sabrina Anico &amp\; Steve Haas</li>\n	</ul>\n	</li>\n	<li style="color:rgb(0\, 0\, 0)\;font-size:11pt\;font-style:normal\;font-weight:400\;"><span style="font-size:&#10\;">Property Reports &amp\; Market Summary &ndash\; During Introductions</span></li>\n	<li style="color:rgb(0\, 0\, 0)\;font-size:11pt\;font-style:normal\;font-weight:400\;"><span style="font-size:&#10\;">GMBHA Update &ndash\; Wendy Kallergis&nbsp\; </span>\n	<ul>\n		<li style="color:rgb(0\, 0\, 0)\;font-size:10pt\;font-style:normal\;font-weight:400\;"><span style="font-size:&#10\;">Industry updates</span></li>\n		<li style="color:rgb(0\, 0\, 0)\;font-size:11pt\;font-style:normal\;font-weight:400\;"><span style="font-size:&#10\;">Advocacy local and state </span></li>\n	</ul>\n	</li>\n	<li style="color:rgb(0\, 0\, 0)\;font-size:11pt\;font-style:normal\;font-weight:400\;"><span style="font-size:&#10\;">MBVCA Grants Update and Occupancy/Tax Update &amp\; Grant Cycle &ndash\; Grisette Roque</span>\n	<ul>\n		<li style="color:rgb(0\, 0\, 0)\;font-size:11pt\;font-style:normal\;font-weight:400\;"><span style="font-size:&#10\;">Forbes Training\; Summer updates</span></li>\n	</ul>\n	</li>\n	<li style="color:rgb(0\, 0\, 0)\;font-size:11pt\;font-style:normal\;font-weight:400\;"><span style="font-size:&#10\;">GMCVB LGBT Updates &ndash\; Dan Rios </span></li>\n	<li style="color:rgb(0\, 0\, 0)\;font-size:11pt\;font-style:normal\;font-weight:400\;"><span style="font-size:&#10\;">TOUR of the Miami Beach Convention Center &ndash\; Steve Haas</span></li>\n	<li style="box-sizing: border-box\;">&nbsp\;<br />\n	&nbsp\;<br />\n	&nbsp\;<br />\n	<strong><em><span style="font-size:11.0pt\;">Meeting/Parking Instructions</span></em></strong><br />\n	&nbsp\;<br />\n	<span style="font-size:11.0pt\;">The Miami Beach Convention Center is located on Convention Center Dr.&nbsp\; There is limited street parking.&nbsp\; There is a City of Miami Beach parking lot behind City Hall.&nbsp\; You can also take UBER/LYFT/TAXI or\, the Miami Beach Trolley.</span></li>\n</ul>\n\n<div style="box-sizing: border-box\;">&nbsp\;</div>\n
LOCATION:Miami Beach Convention Center 1901 Convention Center Drive Miami Beach\, FL 33139 (Grand West Lobby Entrance)
UID:e.1580.19368
SEQUENCE:3
DTSTAMP:20260425T021842Z
URL:https://gaybizmiami-summit-gzcms.preview.gochambermaster.com/events/details/hospitality-council-meeting-miami-beach-convention-center-19368
END:VEVENT

END:VCALENDAR
