BEGIN:VCALENDAR
VERSION:2.0
PRODID:-//ChamberMaster//Event Calendar 2.0//EN
METHOD:PUBLISH
X-PUBLISHED-TTL:P3D
REFRESH-INTERVAL:P3D
CALSCALE:GREGORIAN
BEGIN:VEVENT
DTSTART:20180718T210000Z
DTEND:20180718T220000Z
X-MICROSOFT-CDO-ALLDAYEVENT:FALSE
SUMMARY:IKEA Miami Kid's Club - Sun Catcher Craft Activity
DESCRIPTION:IKEA Miami Kids' Club: Bring the kids for a fun day out at the IKEA Miami Kids' Club\, a NEW and FREE\, family-friendly service for children ages 3 - 12. They'll participate in fun activities and creative projects.\n\n\n\nJoin us for a FREE family fun craft activity where little artists can create their own summer sun catcher to take home. Activity to take place in the restaurant. Please sign up in advance in person in-store at Smaland or via EventBrite for this full-hour of activities.
X-ALT-DESC;FMTTYPE=text/html:IKEA Miami Kids&rsquo\; Club: Bring the kids for a fun day out at the IKEA Miami Kids&rsquo\; Club\, a NEW and FREE\, family-friendly service for children ages 3 - 12. They&#39\;ll participate in fun activities and creative projects.<br />\n<br />\nJoin us for a FREE family fun craft activity where little artists can create their own summer sun catcher to take home. Activity to take place in the restaurant. Please sign up in advance in person in-store at Smaland or via EventBrite&nbsp\;for this full-hour of activities.<br />\n&nbsp\;
LOCATION:IKEA Miami 1801 NW 117 Ave Miami\, FL 33172
UID:e.1580.15903
SEQUENCE:3
DTSTAMP:20260426T032058Z
URL:https://gaybizmiami-summit-gzcms.preview.gochambermaster.com/events/details/ikea-miami-kid-s-club-sun-catcher-craft-activity-15903
END:VEVENT

END:VCALENDAR
