BEGIN:VCALENDAR
VERSION:2.0
PRODID:-//ChamberMaster//Event Calendar 2.0//EN
METHOD:PUBLISH
X-PUBLISHED-TTL:P3D
REFRESH-INTERVAL:P3D
CALSCALE:GREGORIAN
BEGIN:VEVENT
DTSTART;VALUE=DATE:20200715
DTEND;VALUE=DATE:20200717
TRANSP:TRANSPARENT
X-MICROSOFT-CDO-ALLDAYEVENT:TRUE
SUMMARY:LEVEL UP EVEN FASTER
DESCRIPTION:Earn 2x Tier Points and level up even faster.\n\nAllow up to 48 hours for tier points to appear in your account.
X-ALT-DESC;FMTTYPE=text/html:<p>Earn 2x Tier Points and level up even faster.</p>\n\n<p>Allow up to 48 hours for tier points to appear in your account.</p>\n
LOCATION:HARD ROCK HOLLYWOOD
UID:e.1580.20817
SEQUENCE:3
DTSTAMP:20260423T125642Z
URL:https://gaybizmiami-summit-gzcms.preview.gochambermaster.com/events/details/level-up-even-faster-07-15-2020-20817
END:VEVENT

END:VCALENDAR
