BEGIN:VCALENDAR
VERSION:2.0
PRODID:-//ChamberMaster//Event Calendar 2.0//EN
METHOD:PUBLISH
X-PUBLISHED-TTL:P3D
REFRESH-INTERVAL:P3D
CALSCALE:GREGORIAN
BEGIN:VEVENT
DTSTART;VALUE=DATE:20190215
DTEND;VALUE=DATE:20190217
TRANSP:TRANSPARENT
X-MICROSOFT-CDO-ALLDAYEVENT:TRUE
SUMMARY:Lezchic LGBTQ CIRCUS
DESCRIPTION:Join us for a night of fun at The LGBTQ Circus at Kindred in Miami. \n\n337 SW 8th St \n\n\n\nAt 9pm for Happy Hour \n\n10pm for a comedy show \n\n11pm FOR THE GRAND OPENING OF OUR AMAZING CIRCUS\n\n\n\nWe'll have Inflatable games like warp speed\, basketball\, skeeball\, a highstriker & the list goes on. We have special performances from Fire Breathers\, Orlandos very own Burlesque Vixens\, Arkedabar & More. Live Band with a pianst\, sax player\, guitairst\, singer & drummer. Along with Live Poetry\, Live Music and Orlandos & Miamis Finest Lesbian DJs\, DJ Nela & Dj Ic3. FREE POPCORN\, FREE MOVIE SHOWINGS & FREE PRIZES. Circus Bites brought to you by CIRCUSEATS \n\nMystic readings\, face painting\, massages\, health & Wellness\, goodies & soooo much more!! \n\nYOU DO NOT WANT TO MISS THIS EVENT\n\n\n\n& One of our **TOP SECRET** member perks :\n\nGuys get in FREE **BUT YOU MUST** be accompanied by a female friend. \n\n\n\nCome in costume its HIGHLY recommended but if not\, come in RED for the 1st Annual Lezchic Red A-Fair
X-ALT-DESC;FMTTYPE=text/html:Join us for a night of fun at The LGBTQ Circus at Kindred in Miami.&nbsp\;<br />\n337 SW 8th St&nbsp\;<br />\n<br />\nAt 9pm for Happy Hour&nbsp\;<br />\n10pm for a comedy show&nbsp\;<br />\n11pm FOR THE GRAND OPENING OF OUR AMAZING CIRCUS<br />\n<br />\nWe&#39\;ll have Inflatable games like warp speed\, basketball\, skeeball\, a highstriker &amp\; the list goes on. We have special performances from Fire Breathers\, Orlandos very own Burlesque Vixens\, Arkedabar &amp\; More. Live Band with a pianst\, sax player\, guitairst\, singer &amp\; drummer. Along with Live Poetry\, Live Music and Orlandos &amp\; Miamis Finest Lesbian DJs\, DJ Nela &amp\; Dj Ic3. FREE POPCORN\, FREE MOVIE SHOWINGS &amp\; FREE PRIZES. Circus Bites brought to you by CIRCUSEATS&nbsp\;<br />\nMystic readings\, face painting\, massages\, health &amp\; Wellness\, goodies &amp\; soooo much more!!&nbsp\;<br />\nYOU DO NOT WANT TO MISS THIS EVENT<br />\n<br />\n&amp\; One of our **TOP SECRET** member perks :<br />\nGuys get in FREE **BUT YOU MUST** be accompanied by a female friend.&nbsp\;<br />\n<br />\nCome in costume its HIGHLY recommended but if not\, come in RED for the 1st Annual Lezchic Red A-Fair&nbsp\;
LOCATION:Kindred Miami 337 SW 8th St Miami FL
UID:e.1580.18517
SEQUENCE:3
DTSTAMP:20260425T133458Z
URL:https://gaybizmiami-summit-gzcms.preview.gochambermaster.com/events/details/lezchic-lgbtq-circus-18517
END:VEVENT

END:VCALENDAR
