BEGIN:VCALENDAR
VERSION:2.0
PRODID:-//ChamberMaster//Event Calendar 2.0//EN
METHOD:PUBLISH
X-PUBLISHED-TTL:P3D
REFRESH-INTERVAL:P3D
CALSCALE:GREGORIAN
BEGIN:VEVENT
DTSTART:20200729T190000Z
DTEND:20200729T200000Z
X-MICROSOFT-CDO-ALLDAYEVENT:FALSE
SUMMARY:"Living La Vida Pride: Gay-ging Well in South Florida" - Hear from Your Peers Zoom Panel Discussion
DESCRIPTION:Hear from your peers at this interactive live webinar that will connect single and coupled older folx with LGBTQ-oriented aging\, housing\, professional\, and social support resources to ensure they can continue living with pride.  \n \n\nCommunity thought leaders will discuss ways to ensure you are prepared in any situation and share their lists of trusted resources\, including:\n\n\n\nBusiness and community organizations \n\nHealthcare and emotional support providers\n\nHousing and downsizing options\n\nSpecialized financial and legal professionals \n\n \n\nPanelists:\n \n\nLinda Price\, Executive Director\, Allegro Senior Living Dadeland\n\nCindy Brown\, Lambda Living Program Manager\, Jewish Community Services of South Florida\n\nSteve Adkins\, President & CEO\, Miami-Dade Gay & Lesbian Chamber of Commerce\n\nDavid Treece\, Financial Advisor\, Treece Financial Group \n \n\nFree and open to all community members. Presented via Zoom. Advance registration requested at https://us02web.zoom.us/meeting/register/tZ0of-6rrDktGNbn4_GoO5qbHYh9HTPjaT1Z (Meeting ID: 895 8732 2722)\n \n\nAttendees will receive a 1-year free subscription to everplans (a $75 value). This digital service helps you get everything important organized\, makes sure the people you love most have all they'll need in case something happens to you\, and gives access to practical guides\, articles\, and checklists.\n \n\nWe look forward to having you join us - invite a friend!
X-ALT-DESC;FMTTYPE=text/html:<p dir="ltr" style="margin-top: 0pt\; margin-bottom: 0pt\; line-height: 1.38\;"><span style="font-family: Calibri\, Arial\, Helvetica\, sans-serif\; font-size: 16px\; background-color: rgb(255\, 255\, 255)\;"><span style="font-size: 11pt\; font-family: Arial\;">Hear from your peers at this interactive live webinar that will connect single and coupled older folx with LGBTQ-oriented aging\, housing\, professional\, and social support resources to ensure they can continue living with pride.&nbsp\;&nbsp\;</span></span></p>\n&nbsp\;\n\n<p dir="ltr" style="margin-top: 0pt\; margin-bottom: 0pt\; line-height: 1.38\;"><span style="font-family: Calibri\, Arial\, Helvetica\, sans-serif\; font-size: 16px\; background-color: rgb(255\, 255\, 255)\;"><span style="font-size: 11pt\; font-family: Arial\;">Community thought leaders will discuss ways to ensure you are prepared in any situation and share their lists of trusted resources\, including:</span></span><br />\n<br />\n<span style="font-family: Calibri\, Arial\, Helvetica\, sans-serif\; font-size: 16px\; background-color: rgb(255\, 255\, 255)\;"><span style="font-size: 11pt\; font-family: Arial\;">Business and community organizations&#8233\;</span></span></p>\n\n<p dir="ltr" style="margin-top: 0pt\; margin-bottom: 0pt\; line-height: 1.38\;"><span style="font-family: Calibri\, Arial\, Helvetica\, sans-serif\; font-size: 16px\; background-color: rgb(255\, 255\, 255)\;"><span style="font-size: 11pt\; font-family: Arial\;">Healthcare and emotional support providers</span></span></p>\n\n<p dir="ltr" style="margin-top: 0pt\; margin-bottom: 0pt\; line-height: 1.38\;"><span style="font-family: Calibri\, Arial\, Helvetica\, sans-serif\; font-size: 16px\; background-color: rgb(255\, 255\, 255)\;"><span style="font-size: 11pt\; font-family: Arial\;">Housing and downsizing options</span></span><br />\n<span style="font-family: Calibri\, Arial\, Helvetica\, sans-serif\; font-size: 16px\; background-color: rgb(255\, 255\, 255)\;"><span style="font-size: 11pt\; font-family: Arial\;">Specialized financial and legal professionals&#8233\;</span></span><br />\n&nbsp\;</p>\n\n<p dir="ltr" style="margin-top: 0pt\; margin-bottom: 0pt\; line-height: 1.38\;"><span style="font-family: Calibri\, Arial\, Helvetica\, sans-serif\; font-size: 16px\; background-color: rgb(255\, 255\, 255)\;"><span style="font-size: 11pt\; font-family: Arial\;">Panelists:</span></span></p>\n&nbsp\;\n\n<p dir="ltr" style="margin-top: 0pt\; margin-bottom: 0pt\; line-height: 1.38\;"><span style="font-family: Calibri\, Arial\, Helvetica\, sans-serif\; font-size: 16px\; background-color: rgb(255\, 255\, 255)\;"><span style="font-size: 11pt\; font-family: Arial\;">Linda Price\, Executive Director\, Allegro Senior Living Dadeland</span></span></p>\n\n<p dir="ltr" style="margin-top: 0pt\; margin-bottom: 0pt\; line-height: 1.38\;"><span style="font-family: Calibri\, Arial\, Helvetica\, sans-serif\; font-size: 16px\; background-color: rgb(255\, 255\, 255)\;"><span style="font-size: 11pt\; font-family: Arial\;">Cindy Brown\, Lambda Living Program Manager\, Jewish Community Services of South Florida</span></span></p>\n\n<p dir="ltr" style="margin-top: 0pt\; margin-bottom: 0pt\; line-height: 1.38\;"><span style="font-family: Calibri\, Arial\, Helvetica\, sans-serif\; font-size: 16px\; background-color: rgb(255\, 255\, 255)\;"><span style="font-size: 11pt\; font-family: Arial\;">Steve Adkins\, President &amp\; CEO\, Miami-Dade Gay &amp\; Lesbian Chamber of Commerce</span></span></p>\n\n<p dir="ltr" style="margin-top: 0pt\; margin-bottom: 0pt\; line-height: 1.38\;"><span style="font-family: Calibri\, Arial\, Helvetica\, sans-serif\; font-size: 16px\; background-color: rgb(255\, 255\, 255)\;"><span style="font-size: 11pt\; font-family: Arial\;">David Treece\, Financial Advisor\, Treece Financial Group&nbsp\;</span></span></p>\n&nbsp\;\n\n<p dir="ltr" style="margin-top: 0pt\; margin-bottom: 0pt\; line-height: 1.38\;"><span style="font-family: Calibri\, Arial\, Helvetica\, sans-serif\; font-size: 16px\; background-color: rgb(255\, 255\, 255)\;"><span style="font-size: 11pt\; font-family: Arial\;">Free and open to all community members. Presented via Zoom. Advance registration requested at&nbsp\;<a data-saferedirecturl="https://www.google.com/url?q=https://us02web.zoom.us/meeting/register/tZ0of-6rrDktGNbn4_GoO5qbHYh9HTPjaT1Z&amp\;source=gmail&amp\;ust=1595089364035000&amp\;usg=AFQjCNH-5DzLlCoLy6YYeVpq8sRSOeDlPQ" href="https://us02web.zoom.us/meeting/register/tZ0of-6rrDktGNbn4_GoO5qbHYh9HTPjaT1Z" style="color: rgb(17\, 85\, 204)\;" target="_blank">https://us02web.zoom.us/<wbr />meeting/register/tZ0of-<wbr />6rrDktGNbn4_GoO5qbHYh9HTPjaT1Z</a>&nbsp\;(Meeting ID: 895 8732 2722)</span></span></p>\n&nbsp\;\n\n<p dir="ltr" style="margin-top: 0pt\; margin-bottom: 0pt\; line-height: 1.38\;"><span style="font-family: Calibri\, Arial\, Helvetica\, sans-serif\; font-size: 16px\; background-color: rgb(255\, 255\, 255)\;"><span style="font-size: 11pt\; font-family: Arial\;">Attendees will receive a 1-year free subscription to everplans (a $75 value). This digital service helps you get everything important organized\, makes sure the people you love most have all they&#39\;ll need in case something happens to you\, and gives access to practical guides\, articles\, and checklists.</span></span></p>\n&nbsp\;\n\n<p dir="ltr" style="margin-top: 0pt\; margin-bottom: 0pt\; line-height: 1.38\;"><span style="font-family: Calibri\, Arial\, Helvetica\, sans-serif\; font-size: 16px\; background-color: rgb(255\, 255\, 255)\;"><span style="font-size: 11pt\; font-family: Arial\;">We look forward to having you join us - invite a friend!</span></span></p>\n
LOCATION:Presented via Zoom. Advance registration requested at https://us02web.zoom.us/meeting/register/tZ0of-6rrDktGNbn4_GoO5qbHYh9HTPjaT1Z (Meeting ID: 895 8732 2722)
UID:e.1580.20823
SEQUENCE:3
DTSTAMP:20260423T125627Z
URL:https://gaybizmiami-summit-gzcms.preview.gochambermaster.com/events/details/living-la-vida-pride-gay-ging-well-in-south-florida-hear-from-your-peers-zoom-panel-discussion-20823
END:VEVENT

END:VCALENDAR
