BEGIN:VCALENDAR
VERSION:2.0
PRODID:-//ChamberMaster//Event Calendar 2.0//EN
METHOD:PUBLISH
X-PUBLISHED-TTL:P3D
REFRESH-INTERVAL:P3D
CALSCALE:GREGORIAN
BEGIN:VEVENT
DTSTART:20220126T190000Z
DTEND:20220126T203000Z
X-MICROSOFT-CDO-ALLDAYEVENT:FALSE
SUMMARY:MDGLCC "Women's Empowerment Council" Meeting
DESCRIPTION:Join the Women's Empowerment Council's momentum from 2020 and 2021\, kicking off 2022 with a group chat around winning in '22 with strategies for goal setting and exceeding to WIN the year. We will do this by supporting and encouraging one another and each other's businesses.
X-ALT-DESC;FMTTYPE=text/html:<span style="font-family:verdana\;"><span style="font-size:18px\;">Join the Women&#39\;s Empowerment Council&#39\;s momentum from 2020 and 2021\, kicking off 2022 with a group chat around winning in &#39\;22 with strategies for goal setting and exceeding to WIN the year. We will do this by supporting and encouraging one another and each other&rsquo\;s businesses.</span></span><br />\n<br />\n&nbsp\;
LOCATION:Meeting will take place virtually. Once RSVP'd information for access will be shared.
UID:e.1580.29790
SEQUENCE:3
DTSTAMP:20260421T043924Z
URL:https://gaybizmiami-summit-gzcms.preview.gochambermaster.com/events/details/mdglcc-women-s-empowerment-council-meeting-29790
END:VEVENT

END:VCALENDAR
