BEGIN:VCALENDAR
VERSION:2.0
PRODID:-//ChamberMaster//Event Calendar 2.0//EN
METHOD:PUBLISH
X-PUBLISHED-TTL:P3D
REFRESH-INTERVAL:P3D
CALSCALE:GREGORIAN
BEGIN:VEVENT
DTSTART:20200111T003000Z
DTEND:20200111T020000Z
X-MICROSOFT-CDO-ALLDAYEVENT:FALSE
SUMMARY:National YoungArts Week 2020 - Design\, Photography and Visual Arts Exhibition Opening
DESCRIPTION:Join the most accomplished young designers\, photographers and visual artists age 15-18 from around the country for the National YoungArts Week exhibition opening reception in the YoungArts Gallery.
X-ALT-DESC;FMTTYPE=text/html:Join the most accomplished young designers\, photographers and visual artists age 15-18 from around the country for the National YoungArts Week exhibition opening reception in the YoungArts Gallery.&nbsp\;
LOCATION:National YoungArts Foundation Gallery 2100 Biscayne Boulevard Miami FL 33137
UID:e.1580.20438
SEQUENCE:3
DTSTAMP:20260424T053440Z
URL:https://gaybizmiami-summit-gzcms.preview.gochambermaster.com/events/details/national-youngarts-week-2020-design-photography-and-visual-arts-exhibition-opening-20438
END:VEVENT

END:VCALENDAR
