BEGIN:VCALENDAR
VERSION:2.0
PRODID:-//ChamberMaster//Event Calendar 2.0//EN
METHOD:PUBLISH
X-PUBLISHED-TTL:P3D
REFRESH-INTERVAL:P3D
CALSCALE:GREGORIAN
BEGIN:VEVENT
DTSTART;VALUE=DATE:20200731
DTEND;VALUE=DATE:20200902
TRANSP:TRANSPARENT
X-MICROSOFT-CDO-ALLDAYEVENT:TRUE
SUMMARY:New Monuments: Call to Artists
DESCRIPTION:The Bass initiates a new program titled New Monuments by adding a fifth plinth to Collins Park and calling for artists to create a temporary new monument. Who or what should be memorialized on a plinth in Miami Beach\, in the United States\, or globally? In 2020? For the next five years\, this initiative will invite five artists to answer this question with a work of art that will be on view in Collins Park for approximately 10-12 months each. The following open call for artist submissions is for the first year. Subsequent calls will be announced annually. The selection process will be made by the museum's curatorial team.\n\nThe Bass pays for all costs relating to the selected project including production costs\, engineering\, installation and maintenance. The selected artist will also receive a $5\,000 honorarium. If a duo or group is selected\, the honorarium will be divided evenly amongst the group.\n\nThe call is open to any artist living or working in Miami-Dade County. Applications from Black\, Indigenous\, and/or People of Color (BIPOC) artists are strongly encouraged. The deadline to apply is September 1\, 2020 at 5 PM EDT.
X-ALT-DESC;FMTTYPE=text/html:<p><span style="background-color:transparent\; color:rgb(0\, 0\, 0)\; font-family:arial\; font-size:11pt">The Bass initiates a new program titled New Monuments by adding a fifth plinth to Collins Park and calling for artists to create a temporary new monument. Who or what should be memorialized on a plinth in Miami Beach\, in the United States\, or globally? In 2020? For the next five years\, this initiative will invite five artists to answer this question with a work of art that will be on view in Collins Park for approximately 10-12 months each. The following open call for artist submissions is for the first year. Subsequent calls will be announced annually. The selection process will be made by the museum&rsquo\;s curatorial team.</span></p>\n\n<p><span style="background-color:transparent\; color:rgb(0\, 0\, 0)\; font-family:arial\; font-size:11pt">The Bass pays for all costs relating to the selected project including production costs\, engineering\, installation and maintenance. The selected artist will also receive a $5\,000 honorarium. If a duo or group is selected\, the honorarium will be divided evenly amongst the group.</span></p>\n\n<p><span style="background-color:transparent\; color:rgb(0\, 0\, 0)\; font-family:arial\; font-size:11pt">The call is open to any artist living or working in Miami-Dade County. Applications from Black\, Indigenous\, and/or People of Color (BIPOC) artists are strongly encouraged. The deadline to apply is September 1\, 2020 at 5 PM EDT.</span></p>\n
LOCATION:The Bass 2100 Collins Avenue Miami Beach\, FL 33139
UID:e.1580.21826
SEQUENCE:3
DTSTAMP:20260423T044336Z
URL:https://gaybizmiami-summit-gzcms.preview.gochambermaster.com/events/details/new-monuments-call-to-artists-21826
END:VEVENT

END:VCALENDAR
