BEGIN:VCALENDAR
VERSION:2.0
PRODID:-//ChamberMaster//Event Calendar 2.0//EN
METHOD:PUBLISH
X-PUBLISHED-TTL:P3D
REFRESH-INTERVAL:P3D
CALSCALE:GREGORIAN
BEGIN:VEVENT
DTSTART:20181110T010000Z
DTEND:20181110T030000Z
X-MICROSOFT-CDO-ALLDAYEVENT:FALSE
SUMMARY:Penny Arcade: Longing Lasts Longer
DESCRIPTION:Mdc Live Arts presents\n\nLegendary avant-gardist and New York's undisputed queen of the underground\n\nPENNY ARCADE\n\n\n\nPerformance artist\, writer\, poet and experimental theatre-maker Penny Arcade is known for her magnetic stage presence\, take-no-prisoners wit and content-rich plays and one-liners. Her willingness to speak truth to power at the expense of career concerns and her efforts to use performance as a transformative act have made her an international icon of artistic resistance.\n\n\n\nLONGING LASTS LONGER is a rock n' roll blend of stand-up comedy and memoir a fierce\, visionary and ultimately hopeful critique of New York's slide from the "city that never sleeps" to the "city that can't wake up."
X-ALT-DESC;FMTTYPE=text/html:Mdc Live Arts presents<br />\nLegendary avant-gardist and New York&#39\;s undisputed queen of the underground<br />\n<strong>PENNY ARCADE</strong><br />\n<br />\nPerformance artist\, writer\, poet and experimental theatre-maker Penny Arcade is known for her magnetic stage presence\, take-no-prisoners wit and content-rich plays and one-liners. Her willingness to speak truth to power at the expense of career concerns and her efforts to use performance as a transformative act have made her an international icon of artistic resistance.<br />\n<br />\nLONGING LASTS LONGER is a rock n&rsquo\; roll blend of stand-up comedy and memoir&mdash\;a fierce\, visionary and ultimately hopeful critique of New York&rsquo\;s slide from the &ldquo\;city that never sleeps&rdquo\; to&nbsp\;the &ldquo\;city that can&rsquo\;t wake up.&rdquo\;
LOCATION:MDC Live Arts Lab MDC Wolfson Campus\, Building 1 300 NE 2 Ave Miami\, FL 33132
UID:e.1580.17060
SEQUENCE:3
DTSTAMP:20260425T211724Z
URL:https://gaybizmiami-summit-gzcms.preview.gochambermaster.com/events/details/penny-arcade-longing-lasts-longer-11-09-2018-17060
END:VEVENT

END:VCALENDAR
