BEGIN:VCALENDAR
VERSION:2.0
PRODID:-//ChamberMaster//Event Calendar 2.0//EN
METHOD:PUBLISH
X-PUBLISHED-TTL:P3D
REFRESH-INTERVAL:P3D
CALSCALE:GREGORIAN
BEGIN:VEVENT
DTSTART:20190313T233000Z
DTEND:20190314T030000Z
X-MICROSOFT-CDO-ALLDAYEVENT:FALSE
SUMMARY:Pride Night at Miami HEAT vs. Detroit Pistons
DESCRIPTION:We're celebrating the LGBTQ community when we host Miami HEAT Pride Night! Join us for an exciting evening of basketball on Wednesday\, March 13th when the HEAT take on the Detroit Pistons at 7:00 p.m. Tickets start as low as $16 and each ticket purchase includes at HEAT Pride Hat! To purchase\, visit HEAT.com/PrideNight.
X-ALT-DESC;FMTTYPE=text/html:<span style="font-family:calibri\,sans-serif"><span style="font-size:11.0pt">We&rsquo\;re celebrating the LGBTQ community when we host Miami HEAT Pride Night! Join us for an exciting evening of basketball on Wednesday\, March 13<sup>th</sup> when the HEAT take on the Detroit Pistons at 7:00 p.m. Tickets start as low as $16 and each ticket purchase includes at HEAT Pride Hat! To purchase\, visit <a href="https://www.fevo.com/edp/Pride-Night-at-Miami-HEAT-vs-Detroit-Pistons-anjSyVT?ref=DOBRIEN&amp\;referrer_hash=NeAOE3Z2">HEAT.com/PrideNight</a>.</span></span>
LOCATION:AmericanAirlines Arena
UID:e.1580.18520
SEQUENCE:3
DTSTAMP:20260425T163458Z
URL:https://gaybizmiami-summit-gzcms.preview.gochambermaster.com/events/details/pride-night-at-miami-heat-vs-detroit-pistons-18520
END:VEVENT

END:VCALENDAR
