BEGIN:VCALENDAR
VERSION:2.0
PRODID:-//ChamberMaster//Event Calendar 2.0//EN
METHOD:PUBLISH
X-PUBLISHED-TTL:P3D
REFRESH-INTERVAL:P3D
CALSCALE:GREGORIAN
BEGIN:VEVENT
DTSTART:20210627T000000Z
DTEND:20210627T020000Z
X-MICROSOFT-CDO-ALLDAYEVENT:FALSE
SUMMARY:RINGO STARR AND HIS ALL STARR BAND
DESCRIPTION:Ringo Starr and His All Starr Band  are coming to Hard Rock Live. Starr announced details for a North American tour with his current All Starr Band featuring Steve Lukather\, Colin Hay\, Gregg Rolie\, Warren Ham\, Gregg Bissonette and Hamish Stuart. This announcement comes on the heels of the release of Starr's 20th studio record\, "What's My Name." The title track is a rousing anthem written by a returning All Starr Band member\, Colin Hay\, that turns a familiar chant from Starr's live shows into a rousing rocker sure to be a future crowd-pleaser. \n\nThe record is the latest in a series of heartfelt and homespun records that Starr has produced in his home studio and a distinguished\, ever-changing yet often repeating cast of musical characters and friends playing along with Starr. Those friends include Paul McCartney\, Joe Walsh\, Edgar Winter\, Dave Stewart\, Benmont Tench\, Steve Lukather\, Nathan East\, Colin Hay\, Richard Page\, Warren Ham\, Windy Wagner\, Kari Kimmel and more.\n\n\n\nStarr also just released "Another Day In The Life\," the third in his series of books with Genesis Publications\, that follows the sell-out success of "Postcards From The Boys" (2003) and "Photograph" (2013)\, and features previously unpublished collection of his photographs\, captioned with his own thoughts and anecdotes.
X-ALT-DESC;FMTTYPE=text/html:<p>Ringo Starr and His All Starr Band&nbsp\; are coming to Hard Rock Live. Starr announced details for a North American tour with his current All Starr Band featuring Steve Lukather\, Colin Hay\, Gregg Rolie\, Warren Ham\, Gregg Bissonette and Hamish Stuart.&nbsp\;This announcement comes on the heels of the release of Starr&rsquo\;s 20th studio record\,&nbsp\;<a href="https://nam02.safelinks.protection.outlook.com/?url=https%3A%2F%2Fymlptr1.net%2F0dce4qubsacaehbjqaxaumjadameyyy%2Fclick.php&amp\;data=02%7C01%7Ckmaloney%40aegpresents.com%7C5c8ee416125f46bd148f08d760d0bfd4%7Ccaece8130c4849238c628676bc93605f%7C0%7C0%7C637084322005816015&amp\;sdata=hfUYkguE3RT5G24GzSClGnXi6V4P3GkUQt26aq1ZYzw%3D&amp\;reserved=0" style="box-sizing: border-box\; background-color: transparent\; transition: color 0.3s ease 0s\; color: rgb(71\, 71\, 71)\;">&ldquo\;What&rsquo\;s My Name</a>.&rdquo\; The title track is a rousing anthem written by a returning All Starr Band member\, Colin Hay\, that turns a familiar chant from Starr&rsquo\;s live shows into a rousing rocker sure to be a future crowd-pleaser.&nbsp\;</p>\n\n<p>The record is the latest in a series of heartfelt and homespun records that Starr has produced in his home studio and a distinguished\, ever-changing yet often repeating cast of musical characters and friends playing along with Starr. Those friends include Paul McCartney\, Joe Walsh\, Edgar Winter\, Dave Stewart\, Benmont Tench\, Steve Lukather\, Nathan East\, Colin Hay\, Richard Page\, Warren Ham\, Windy Wagner\, Kari Kimmel and more.<br />\n<br />\nStarr also just released &ldquo\;Another Day In The Life\,&rdquo\; the third in his series of books with Genesis Publications\, that follows the sell-out success of &ldquo\;Postcards From The Boys&rdquo\; (2003) and &ldquo\;Photograph&rdquo\; (2013)\, and features previously unpublished collection of his photographs\, captioned with his own thoughts and anecdotes.</p>\n\n<div>&nbsp\;</div>\n
LOCATION:HARD ROCK LIVE- HOLLYWOOD
UID:e.1580.20815
SEQUENCE:3
DTSTAMP:20260422T020028Z
URL:https://gaybizmiami-summit-gzcms.preview.gochambermaster.com/events/details/ringo-starr-and-his-all-starr-band-20815
END:VEVENT

END:VCALENDAR
