BEGIN:VCALENDAR
VERSION:2.0
PRODID:-//ChamberMaster//Event Calendar 2.0//EN
METHOD:PUBLISH
X-PUBLISHED-TTL:P3D
REFRESH-INTERVAL:P3D
CALSCALE:GREGORIAN
BEGIN:VEVENT
DTSTART:20200828T230000Z
DTEND:20200829T003000Z
X-MICROSOFT-CDO-ALLDAYEVENT:FALSE
SUMMARY:SAVE Champions of Equality Virtual Gala
DESCRIPTION:Join us for our free virtual gala on August 28 at 7PM\, as we celebrate the 2020 Champions of Equality. This annual event brings together hundreds of political\, civic\, and community leaders from throughout South Florida who stand for fairness and equality for LGBTQ people. Learn more about the event and how to participate below.\n\n\n\n	\n		\n			Register to Attend\n		\n	\n\n\n\n*Registration is free. \n\nPlease consider registering with a donation to support the work of SAVE. \n\nHost and Sponsorship opportunities are available. Contact Orlando Gonzales at orlando@save.lgbt to inquire.
X-ALT-DESC;FMTTYPE=text/html:<p>Join us for our&nbsp\;<strong><u>free</u> virtual gala&nbsp\;</strong>on&nbsp\;<strong>August 28 at 7PM</strong>\, as we celebrate the&nbsp\;<strong>2020 Champions of Equality.</strong>&nbsp\;This annual event brings together hundreds of political\, civic\, and community leaders from throughout South Florida who stand for fairness and equality for LGBTQ people.&nbsp\;Learn more about the event and how to participate below.</p>\n\n<div style="text-align:center">\n<table border="0" cellpadding="0" cellspacing="0" style="background-color:rgb(84\, 37\, 130)\; border-collapse:initial\; border-radius:4px\; border:1px solid rgb(255\, 255\, 255)\; color:rgb(255\, 255\, 255)\; font-size:16px\; margin:0px auto\; width:400px">\n	<tbody>\n		<tr>\n			<td><a href="https://www.accelevents.com/e/savedade" rel="noopener" style="color: rgb(255\, 255\, 255)\; text-decoration-line: none\; margin: 0px\; padding: 0px\; line-height: 1em\;" target="_blank">Register to Attend</a></td>\n		</tr>\n	</tbody>\n</table>\n</div>\n\n<p style="text-align:center"><strong><em>*Registration is free.&nbsp\;</em></strong><br />\nPlease consider registering with a donation to support the work of SAVE.&nbsp\;<br />\nHost and Sponsorship opportunities are available. Contact Orlando Gonzales at orlando@save.lgbt to inquire.</p>\n\n<div style="text-align:center">&nbsp\;</div>\n
LOCATION:Online via a virtual platform.
UID:e.1580.21828
SEQUENCE:3
DTSTAMP:20260423T081554Z
URL:https://gaybizmiami-summit-gzcms.preview.gochambermaster.com/events/details/save-champions-of-equality-virtual-gala-21828
END:VEVENT

END:VCALENDAR
