BEGIN:VCALENDAR
VERSION:2.0
PRODID:-//ChamberMaster//Event Calendar 2.0//EN
METHOD:PUBLISH
X-PUBLISHED-TTL:P3D
REFRESH-INTERVAL:P3D
CALSCALE:GREGORIAN
BEGIN:VEVENT
DTSTART:20180819T010000Z
DTEND:20180819T023000Z
X-MICROSOFT-CDO-ALLDAYEVENT:FALSE
SUMMARY:Sensatia
DESCRIPTION:Faena Theater invites you on a journey of sensual discovery with Sensatia\, an interactive Cirque Cabaret that will stir and satiate the senses.
X-ALT-DESC;FMTTYPE=text/html:<span style="font-family:calibri\,sans-serif\; font-size:11pt"><strong>Faena Theater</strong></span><span style="font-family:calibri\,sans-serif\; font-size:11pt">&nbsp\;invites you on a journey of sensual discovery with&nbsp\;<strong>Sensatia</strong>\, an interactive Cirque Cabaret that will stir and satiate the senses.</span>
LOCATION:3201 Collins Ave\, Miami Beach\, FL 33140
UID:e.1580.16326
SEQUENCE:3
DTSTAMP:20260426T025804Z
URL:https://gaybizmiami-summit-gzcms.preview.gochambermaster.com/events/details/sensatia-08-18-2018-16326
END:VEVENT

END:VCALENDAR
