BEGIN:VCALENDAR
VERSION:2.0
PRODID:-//ChamberMaster//Event Calendar 2.0//EN
METHOD:PUBLISH
X-PUBLISHED-TTL:P3D
REFRESH-INTERVAL:P3D
CALSCALE:GREGORIAN
BEGIN:VEVENT
DTSTART:20190324T000000Z
DTEND:20190324T020000Z
X-MICROSOFT-CDO-ALLDAYEVENT:FALSE
SUMMARY:Sinatra meets The Sopranos
DESCRIPTION:20 years ago The Sopranos premiered on television\, instantly becoming one of the most talked about shows of all time. In celebration of this monumental moment in television history\, two iconic names - Sinatra and The Sopranos - come together on March 23\, 2019 for an evening of great music and classic storytelling. \n\nThe Fontainebleau\, having hosted both counteless Sinatra performances and an iconic episode of The Sopranos\, is proud to present "Sinatra Meets The Sopranos" in the historic Fontaine Ballroom\, on the same stage Sinatra once performed. \n\nThe evening starts with a performance of Sinatra classics by Michael Martocci and his 22-piece orchestra\, before diving into The Sopranos history\, as actors Steve Schirripa (Bobby Baccalieri)\, Michael Imperioli (Christopher Moltisanti) and Vincent Pastore (Sal 'Big Pussy' Bonpensiero)\, come together to tell backstage stories and take audience questions. A very limited number of ticket packages are available\, including a special front of stage section exclusively for VIP. \n\nVIP Package | $175\n\nDinner at Scarpetta by Scott Conant\n\nReserved front of stage seating\n\nPost show meet and greet with The Soprano stars \n\nComplimentary specialty cocktails\n\nDiscounted valet parking $15\n\nShow Package | $75\n\nGeneral Admission seating\n\nComplimentary specialty cocktails\n\nDiscounted valet parking $15\n\nDinner & Show guests must be seated for dinner between 6 - 6:30 PM on the night of the performance.  Doors open at 8 PM.  Please make sure to visit Will Call\, located in the Chateau Lobby\, between 5 and 9 PM on the day of the show to obtain your entrance wristband.
X-ALT-DESC;FMTTYPE=text/html:<p>20 years ago The Sopranos premiered on television\, instantly becoming one of the most talked about shows of all time. In celebration of this monumental moment in television history\, two iconic names - Sinatra and The Sopranos - come together on March 23\, 2019 for an evening of great music and classic storytelling.&nbsp\;</p>\n\n<p>The Fontainebleau\, having hosted both counteless Sinatra performances and an iconic episode of The Sopranos\, is proud to present &quot\;Sinatra Meets The Sopranos&quot\; in the historic Fontaine Ballroom\, on the same stage Sinatra once performed.&nbsp\;</p>\n\n<p>The evening starts with a performance of Sinatra classics by Michael Martocci and his 22-piece orchestra\, before diving into The Sopranos history\, as actors Steve Schirripa (Bobby Baccalieri)\, Michael Imperioli (Christopher Moltisanti) and Vincent Pastore (Sal &#39\;Big Pussy&#39\;&nbsp\;Bonpensiero)\, come together to tell backstage stories and take audience questions. A very limited number of ticket packages are available\, including a special front of stage section exclusively for VIP.&nbsp\;</p>\n\n<p><strong>VIP Package | $175</strong><br />\nDinner at Scarpetta by Scott Conant<br />\nReserved front of stage seating<br />\nPost show meet and greet with The Soprano stars&nbsp\;<br />\nComplimentary specialty cocktails<br />\nDiscounted valet parking $15</p>\n\n<p><strong>Show Package&nbsp\;| $75</strong><br />\nGeneral Admission&nbsp\;seating<br />\nComplimentary specialty cocktails<br />\nDiscounted valet parking $15</p>\n\n<p>Dinner &amp\; Show guests must be seated for dinner between 6 - 6:30&nbsp\;PM on the night of the performance.&nbsp\; Doors open at 8 PM.&nbsp\; Please make sure to visit Will Call\, located in the Chateau Lobby\, between 5 and 9 PM on the day of the show to obtain your entrance wristband.&nbsp\;</p>\n
LOCATION:Fontainebleau Miami Beach
UID:e.1580.17893
SEQUENCE:3
DTSTAMP:20260425T102111Z
URL:https://gaybizmiami-summit-gzcms.preview.gochambermaster.com/events/details/sinatra-meets-the-sopranos-17893
END:VEVENT

END:VCALENDAR
