BEGIN:VCALENDAR
VERSION:2.0
PRODID:-//ChamberMaster//Event Calendar 2.0//EN
METHOD:PUBLISH
X-PUBLISHED-TTL:P3D
REFRESH-INTERVAL:P3D
CALSCALE:GREGORIAN
BEGIN:VEVENT
DTSTART:20190722T140000Z
DTEND:20190722T220000Z
X-MICROSOFT-CDO-ALLDAYEVENT:FALSE
SUMMARY:Splashtacular Summer Save 25% Online
DESCRIPTION:Don't miss the coolest thing about summer in Miami! Splashtacular Summer offers kids waves of splashing fun with huge water slides\, Salty's Pirate Playground\, and coolest of all\, the Spray & Play misting stations. All that plus the comical residents of Penguin Isle! Keep cool and keep playing all summer!\n\nSlide Glide\, Spray & Play All Summer! Waterslides | Spray Misting Stations | Salty's Pirate Playground | Super Soakers and Geysers
X-ALT-DESC;FMTTYPE=text/html:Don&rsquo\;t miss the coolest thing about summer in Miami! Splashtacular Summer offers kids waves of splashing fun with huge water slides\, Salty&rsquo\;s Pirate Playground\, and coolest of all\, the Spray &amp\; Play misting stations. All that plus the comical residents of Penguin Isle! Keep cool and keep playing all summer!<br />\nSlide Glide\, Spray &amp\; Play All Summer! Waterslides | Spray Misting Stations | Salty&#39\;s Pirate Playground | Super Soakers and Geysers
LOCATION:
UID:e.1580.19272
SEQUENCE:3
DTSTAMP:20260425T010438Z
URL:https://gaybizmiami-summit-gzcms.preview.gochambermaster.com/events/details/splashtacular-summer-save-25-online-07-22-2019-19272
END:VEVENT

END:VCALENDAR
