BEGIN:VCALENDAR
VERSION:2.0
PRODID:-//ChamberMaster//Event Calendar 2.0//EN
METHOD:PUBLISH
X-PUBLISHED-TTL:P3D
REFRESH-INTERVAL:P3D
CALSCALE:GREGORIAN
BEGIN:VEVENT
DTSTART:20200421T000000Z
DTEND:20200421T010000Z
X-MICROSOFT-CDO-ALLDAYEVENT:FALSE
SUMMARY:Supporting Gender Diverse Children & Youth During Quarantine
DESCRIPTION:Join this session to discuss:\n\n  How is physical distancing impacting your family and home life dynamics? \n\n  What might children and youth need in terms of mental health support and other resources\, during this time? \n\n  How can parents and guardians utilize the YES model of communication to find solutions when disagreements or upsets occur?\n\n\nJoin the Zoom Session by clicking this link:\n\n\n\nhttps://zoom.us/j/687805710?pwd=TFFaaTlhODFXb3hFd1FSNVVJV1JZdz09\n\n\n\nMeeting ID: 687 805 710\n\nPassword: 037069\n\n\n\nOr to join via a phone call\, tap this number on your mobile phone:\n\n\n\n+13126266799\,\,687805710#\,\,#\,037069#
X-ALT-DESC;FMTTYPE=text/html:<p><strong>Join this session to discuss:</strong></p>\n\n<p><strong>&bull\; How is physical distancing impacting your family and home life dynamics?&nbsp\;</strong></p>\n\n<p><strong>&bull\; What might children and youth need in terms of mental health support and other resources\, during this time?&nbsp\;</strong></p>\n\n<p><strong>&bull\; How can parents and guardians utilize the YES model of communication to find solutions when disagreements or upsets occur?</strong></p>\n<br />\n<span style="background-color:rgb(241\, 243\, 244)\; color:rgb(60\, 64\, 67)\; font-family:roboto\,helvetica\,arial\,sans-serif\; font-size:14px">Join the Zoom Session by clicking this link:</span><br />\n<br />\n<a href="https://www.google.com/url?q=https://zoom.us/j/687805710?pwd%3DTFFaaTlhODFXb3hFd1FSNVVJV1JZdz09&amp\;sa=D&amp\;ust=1587298384191000&amp\;usg=AOvVaw2kP2XTltxeq6fARFS0rcRt" style="color: rgb(26\, 115\, 232)\; cursor: auto\; font-family: Roboto\, Helvetica\, Arial\, sans-serif\; font-size: 14px\; background-color: rgb(241\, 243\, 244)\;"><strong>https://zoom.us/j/687805710?pwd=TFFaaTlhODFXb3hFd1FSNVVJV1JZdz09</strong></a><br />\n<br />\n<span style="background-color:rgb(241\, 243\, 244)\; color:rgb(60\, 64\, 67)\; font-family:roboto\,helvetica\,arial\,sans-serif\; font-size:14px">Meeting ID: 687 805 710</span><br />\n<span style="background-color:rgb(241\, 243\, 244)\; color:rgb(60\, 64\, 67)\; font-family:roboto\,helvetica\,arial\,sans-serif\; font-size:14px">Password: 037069</span><br />\n<br />\n<span style="background-color:rgb(241\, 243\, 244)\; color:rgb(60\, 64\, 67)\; font-family:roboto\,helvetica\,arial\,sans-serif\; font-size:14px">Or to join via a phone call\, tap this number on your mobile phone:</span><br />\n<br />\n<strong>+13126266799\,\,687805710#\,\,#\,037069#</strong>
LOCATION:https://zoom.us/j/687805710?pwd=TFFaaTlhODFXb3hFd1FSNVVJV1JZdz09
UID:e.1580.20771
SEQUENCE:3
DTSTAMP:20260424T022925Z
URL:https://gaybizmiami-summit-gzcms.preview.gochambermaster.com/events/details/supporting-gender-diverse-children-youth-during-quarantine-20771
END:VEVENT

END:VCALENDAR
