BEGIN:VCALENDAR
VERSION:2.0
PRODID:-//ChamberMaster//Event Calendar 2.0//EN
METHOD:PUBLISH
X-PUBLISHED-TTL:P3D
REFRESH-INTERVAL:P3D
CALSCALE:GREGORIAN
BEGIN:VEVENT
DTSTART:20190302T010000Z
DTEND:20190302T040000Z
X-MICROSOFT-CDO-ALLDAYEVENT:FALSE
SUMMARY:The Bass Presents Night at the Museum 2019
DESCRIPTION:Catch the vibe and join our tribe into the neon jungle for Night at the Museum 2019\, The Bass' annual spring fundraiser! Featuring music by RICHIE HELL\, an installation by Haiiileen and a photo experience by Capture POD. Purchase a membership at the Affiliate ($250) level or above and receive access for you and a guest\, plus enjoy year-round membership benefits. This is a members-only event-please join\, renew or upgrade to attend!
X-ALT-DESC;FMTTYPE=text/html:<span style="font-size:11pt"><span style="font-family:calibri\,sans-serif">Catch the vibe and join our tribe into the neon jungle for Night at the Museum 2019\, The Bass&rsquo\; annual spring fundraiser! Featuring music by RICHIE HELL\, an installation by Haiiileen and a photo experience by Capture POD. Purchase a membership at the Affiliate ($250) level or above and receive access for you and a guest\, plus enjoy year-round membership benefits. This is a members-only event-please join\, renew or upgrade to attend!</span></span><br />\n&nbsp\;
LOCATION:The Bass 2100 Collins Avenue Miami Beach\, FL 33139
UID:e.1580.18115
SEQUENCE:3
DTSTAMP:20260425T134257Z
URL:https://gaybizmiami-summit-gzcms.preview.gochambermaster.com/events/details/the-bass-presents-night-at-the-museum-2019-18115
END:VEVENT

END:VCALENDAR
