BEGIN:VCALENDAR
VERSION:2.0
PRODID:-//ChamberMaster//Event Calendar 2.0//EN
METHOD:PUBLISH
X-PUBLISHED-TTL:P3D
REFRESH-INTERVAL:P3D
CALSCALE:GREGORIAN
BEGIN:VEVENT
DTSTART:20190214T230000Z
DTEND:20190215T030000Z
X-MICROSOFT-CDO-ALLDAYEVENT:FALSE
SUMMARY:Valentine's Day Dinner
DESCRIPTION:A romantinc menu inspired on the flavors of Latin America.
X-ALT-DESC;FMTTYPE=text/html:A romantinc menu inspired on the flavors of Latin America.
LOCATION:InterContinental at Doral Miami Hotel (Blue Matisse Restaurant) 2505 NW 87th Ave\, Doral\, FL 33172
UID:e.1580.17891
SEQUENCE:3
DTSTAMP:20260425T163222Z
URL:https://gaybizmiami-summit-gzcms.preview.gochambermaster.com/events/details/valentine-s-day-dinner-17891
END:VEVENT

END:VCALENDAR
